BEGIN:VCALENDAR
VERSION:2.0
PRODID:-//Théâtre Gilles-Vigneault//L'Ensemble en direct de l'univers//EN
CALSCALE:GREGORIAN
METHOD:PUBLISH
BEGIN:VEVENT
SUMMARY:L'Ensemble en direct de l'univers
UID:E-24367-20260507T200000
DTSTART:20260507T200000
DTSTAMP:20250526T075416
URL:https://tgv.districtweb.dev/calendrier/en-direct-de-lunivers-mai-2026/
END:VEVENT
END:VCALENDAR