BEGIN:VCALENDAR
VERSION:2.0
PRODID:-//Théâtre Gilles-Vigneault//Là-bas//EN
CALSCALE:GREGORIAN
METHOD:PUBLISH
BEGIN:VEVENT
SUMMARY:Là-bas
UID:E-24318-20260503T150000
DTSTART:20260503T150000
DTSTAMP:20250521T154909
URL:https://tgv.districtweb.dev/calendrier/la-bas-mai-2026/
END:VEVENT
END:VCALENDAR