BEGIN:VCALENDAR
VERSION:2.0
PRODID:-//Théâtre Gilles-Vigneault//Yggdrasil//EN
CALSCALE:GREGORIAN
METHOD:PUBLISH
BEGIN:VEVENT
SUMMARY:Yggdrasil
UID:E-24317-20260503T093000
DTSTART:20260503T093000
DTSTAMP:20250521T154620
LOCATION:Théâtre Gilles-Vigneault, 118, rue de la Gare, Saint-Jérôme, J7Z 0J1
GEO:45.776227;-74.001033
URL:https://tgv.districtweb.dev/calendrier/yggdrasil-mai-2026/
END:VEVENT
END:VCALENDAR