BEGIN:VCALENDAR
VERSION:2.0
PRODID:-//Théâtre Gilles-Vigneault//Pierre Hébert//EN
CALSCALE:GREGORIAN
METHOD:PUBLISH
BEGIN:VEVENT
SUMMARY:Pierre Hébert
UID:E-23734-20260502T200000
DTSTART:20260502T200000
DTSTAMP:20250429T111503
LOCATION:Théâtre Gilles-Vigneault, 118, rue de la Gare, Saint-Jérôme, J7Z 0J1
GEO:45.776227;-74.001033
URL:https://tgv.districtweb.dev/calendrier/pierre-hebert-mai-2026/
END:VEVENT
END:VCALENDAR