BEGIN:VCALENDAR
VERSION:2.0
PRODID:-//Théâtre Gilles-Vigneault//Bleu Jeans Bleu//EN
CALSCALE:GREGORIAN
METHOD:PUBLISH
BEGIN:VEVENT
SUMMARY:Bleu Jeans Bleu
UID:E-20645-20260501T200000
DTSTART:20260501T200000
DTSTAMP:20250525T141238
URL:https://tgv.districtweb.dev/calendrier/bleu-jeans-bleu-mai-2026/
END:VEVENT
END:VCALENDAR