BEGIN:VCALENDAR
VERSION:2.0
PRODID:-//Théâtre Gilles-Vigneault//Nikamu Mamuitun//EN
CALSCALE:GREGORIAN
METHOD:PUBLISH
BEGIN:VEVENT
SUMMARY:Nikamu Mamuitun
UID:E-24308-20260425T200000
DTSTART:20260425T200000
DTSTAMP:20250521T084027
URL:https://tgv.districtweb.dev/calendrier/nikamu-mamuitun-avril-2026/
END:VEVENT
END:VCALENDAR