BEGIN:VCALENDAR
VERSION:2.0
PRODID:-//Théâtre Gilles-Vigneault//Qw4rtz//EN
CALSCALE:GREGORIAN
METHOD:PUBLISH
BEGIN:VEVENT
SUMMARY:Qw4rtz
UID:E-24365-20260423T200000
DTSTART:20260423T200000
DTSTAMP:20250521T142534
URL:https://tgv.districtweb.dev/calendrier/qw4rtz-avril-2026/
END:VEVENT
END:VCALENDAR