BEGIN:VCALENDAR
VERSION:2.0
PRODID:-//Théâtre Gilles-Vigneault//Die-On//EN
CALSCALE:GREGORIAN
METHOD:PUBLISH
BEGIN:VEVENT
SUMMARY:Die-On
UID:E-23962-20260306T200000
DTSTART:20260306T200000
DTSTAMP:20250513T121051
LOCATION:Théâtre Gilles-Vigneault, 118, rue de la Gare, Saint-Jérôme, J7Z 0J1
GEO:45.776227;-74.001033
URL:https://tgv.districtweb.dev/calendrier/die-on-mars-2026/
END:VEVENT
END:VCALENDAR