BEGIN:VCALENDAR
VERSION:2.0
PRODID:-//Théâtre Gilles-Vigneault//Patrice L'Ecuyer//EN
CALSCALE:GREGORIAN
METHOD:PUBLISH
BEGIN:VEVENT
SUMMARY:Patrice L'Ecuyer
UID:E-23444-20260228T200000
DTSTART:20260228T200000
DTSTAMP:20250106T084339
LOCATION:Théâtre Gilles-Vigneault, 118, rue de la Gare, Saint-Jérôme, J7Z 0J1
GEO:45.776227;-74.001033
URL:https://tgv.districtweb.dev/calendrier/patrice-lecuyer-fevrier-2026/
END:VEVENT
END:VCALENDAR