BEGIN:VCALENDAR
VERSION:2.0
PRODID:-//Théâtre Gilles-Vigneault//Pierre-Luc Pomerleau//EN
CALSCALE:GREGORIAN
METHOD:PUBLISH
BEGIN:VEVENT
SUMMARY:Pierre-Luc Pomerleau
UID:E-22160-20260227T200000
DTSTART:20260227T200000
DTSTAMP:20250703T073035
LOCATION:Théâtre Gilles-Vigneault, 118, rue de la Gare, Saint-Jérôme, J7Z 0J1
GEO:45.776227;-74.001033
URL:https://tgv.districtweb.dev/calendrier/pierre-luc-pomerleau-fevrier-2026/
END:VEVENT
END:VCALENDAR