BEGIN:VCALENDAR
VERSION:2.0
PRODID:-//Théâtre Gilles-Vigneault//Mariem Valdes Martínez - Onze | Lauranne Faubert-Guay - D'une montagne sans sommet//EN
CALSCALE:GREGORIAN
METHOD:PUBLISH
BEGIN:VEVENT
SUMMARY:Mariem Valdes Martínez - Onze | Lauranne Faubert-Guay - D'une montagne sans sommet
UID:E-22772-20260225T193000
DTSTART:20260225T193000
DTSTAMP:20250305T115127
LOCATION:Théâtre Gilles-Vigneault, 118, rue de la Gare, Saint-Jérôme, J7Z 0J1
GEO:45.776227;-74.001033
URL:https://tgv.districtweb.dev/calendrier/futur-danse-fevrier-2026/
END:VEVENT
END:VCALENDAR