BEGIN:VCALENDAR
VERSION:2.0
PRODID:-//Théâtre Gilles-Vigneault//Fredz//EN
CALSCALE:GREGORIAN
METHOD:PUBLISH
BEGIN:VEVENT
SUMMARY:Fredz
UID:E-23285-20260219T190000
DTSTART:20260219T190000
DTSTAMP:20250523T155636
URL:https://tgv.districtweb.dev/calendrier/fredz-septembre-2025/
END:VEVENT
END:VCALENDAR