BEGIN:VCALENDAR
VERSION:2.0
PRODID:-//Théâtre Gilles-Vigneault//Elyzabeth Diaga Queens of Rock//EN
CALSCALE:GREGORIAN
METHOD:PUBLISH
BEGIN:VEVENT
SUMMARY:Elyzabeth Diaga Queens of Rock
UID:E-23568-20260212T000000
DTSTART:20260212T000000
DTSTAMP:20260212T132437
URL:https://tgv.districtweb.dev/calendrier/queens-of-rock-juillet-2025/
END:VEVENT
END:VCALENDAR