BEGIN:VCALENDAR
VERSION:2.0
PRODID:-//Théâtre Gilles-Vigneault//Martin Perizzolo//EN
CALSCALE:GREGORIAN
METHOD:PUBLISH
BEGIN:VEVENT
SUMMARY:Martin Perizzolo
UID:E-23957-20260211T193000
DTSTART:20260211T193000
DTSTAMP:20250408T120016
LOCATION:Théâtre Gilles-Vigneault, 118, rue de la Gare, Saint-Jérôme, J7Z 0J1
GEO:45.776227;-74.001033
URL:https://tgv.districtweb.dev/calendrier/martin-perizzolo-fevrier-2025/
END:VEVENT
END:VCALENDAR