BEGIN:VCALENDAR
VERSION:2.0
PRODID:-//Théâtre Gilles-Vigneault//Daraîche & Filles//EN
CALSCALE:GREGORIAN
METHOD:PUBLISH
BEGIN:VEVENT
SUMMARY:Daraîche & Filles
UID:E-24019-20260208T150000
DTSTART:20260208T150000
DTSTAMP:20250403T075300
URL:https://tgv.districtweb.dev/calendrier/daraiche-et-filles-fevrier-2026/
END:VEVENT
END:VCALENDAR