BEGIN:VCALENDAR
VERSION:2.0
PRODID:-//Théâtre Gilles-Vigneault//Québec-Montréal sur scène//EN
CALSCALE:GREGORIAN
METHOD:PUBLISH
BEGIN:VEVENT
SUMMARY:Québec-Montréal sur scène
UID:E-23766-20260131T150000
DTSTART:20260131T150000
DTSTAMP:20250505T074449
URL:https://tgv.districtweb.dev/calendrier/quebec-montreal-janvier-2026/
END:VEVENT
END:VCALENDAR