BEGIN:VCALENDAR
VERSION:2.0
PRODID:-//Théâtre Gilles-Vigneault//Québec-Montréal sur scène//EN
CALSCALE:GREGORIAN
METHOD:PUBLISH
BEGIN:VEVENT
SUMMARY:Québec-Montréal sur scène
UID:E-23766-20260130T200000
DTSTART:20260130T200000
DTSTAMP:20250505T074449
LOCATION:Théâtre Gilles-Vigneault, 118, rue de la Gare, Saint-Jérôme, J7Z 0J1
GEO:45.776227;-74.001033
URL:https://tgv.districtweb.dev/calendrier/quebec-montreal-janvier-2026/
END:VEVENT
END:VCALENDAR