BEGIN:VCALENDAR
VERSION:2.0
PRODID:-//Théâtre Gilles-Vigneault//Mariana Mazza//EN
CALSCALE:GREGORIAN
METHOD:PUBLISH
BEGIN:VEVENT
SUMMARY:Mariana Mazza
UID:E-18998-20260123T200000
DTSTART:20260123T200000
DTSTAMP:20250603T080917
LOCATION:Théâtre Gilles-Vigneault, 118, rue de la Gare, Saint-Jérôme, J7Z 0J1
GEO:45.776227;-74.001033
URL:https://tgv.districtweb.dev/calendrier/mariana-mazza-janvier-2026/
END:VEVENT
END:VCALENDAR