BEGIN:VCALENDAR
VERSION:2.0
PRODID:-//Théâtre Gilles-Vigneault//Alexandre Champagne//EN
CALSCALE:GREGORIAN
METHOD:PUBLISH
BEGIN:VEVENT
SUMMARY:Alexandre Champagne
UID:E-24022-20260122T200000
DTSTART:20260122T200000
DTSTAMP:20250408T090540
LOCATION:Théâtre Gilles-Vigneault, 118, rue de la Gare, Saint-Jérôme, J7Z 0J1
GEO:45.776227;-74.001033
URL:https://tgv.districtweb.dev/calendrier/alexandre-champagne-janvier-2026/
END:VEVENT
END:VCALENDAR