BEGIN:VCALENDAR
VERSION:2.0
PRODID:-//Théâtre Gilles-Vigneault//Billy Tellier//EN
CALSCALE:GREGORIAN
METHOD:PUBLISH
BEGIN:VEVENT
SUMMARY:Billy Tellier
UID:E-23994-20260117T200000
DTSTART:20260117T200000
DTSTAMP:20250609T131813
LOCATION:Théâtre Gilles-Vigneault, 118, rue de la Gare, Saint-Jérôme, J7Z 0J1
GEO:45.776227;-74.001033
URL:https://tgv.districtweb.dev/calendrier/billy-tellier-janvier-2026/
END:VEVENT
END:VCALENDAR