BEGIN:VCALENDAR
VERSION:2.0
PRODID:-//Théâtre Gilles-Vigneault//Noël, une tradition en chanson//EN
CALSCALE:GREGORIAN
METHOD:PUBLISH
BEGIN:VEVENT
SUMMARY:Noël, une tradition en chanson
UID:E-22867-20251223T193000
DTSTART:20251223T193000
DTSTAMP:20250513T120756
URL:https://tgv.districtweb.dev/calendrier/noel-une-tradition-en-chanson-decembre-2024/
END:VEVENT
END:VCALENDAR