BEGIN:VCALENDAR
VERSION:2.0
PRODID:-//Théâtre Gilles-Vigneault//Roch Voisine//EN
CALSCALE:GREGORIAN
METHOD:PUBLISH
BEGIN:VEVENT
SUMMARY:Roch Voisine
UID:E-23566-20251217T193000
DTSTART:20251217T193000
DTSTAMP:20250513T120658
URL:https://tgv.districtweb.dev/calendrier/roch-voisine-decembre-2025/
END:VEVENT
END:VCALENDAR