BEGIN:VCALENDAR
VERSION:2.0
PRODID:-//Théâtre Gilles-Vigneault//Nathalie Simard//EN
CALSCALE:GREGORIAN
METHOD:PUBLISH
BEGIN:VEVENT
SUMMARY:Nathalie Simard
UID:E-23736-20251214T150000
DTSTART:20251214T150000
DTSTAMP:20250203T125808
URL:https://tgv.districtweb.dev/calendrier/nathalie-simard-decembre-2025/
END:VEVENT
END:VCALENDAR