BEGIN:VCALENDAR
VERSION:2.0
PRODID:-//Théâtre Gilles-Vigneault//Matt Lang//EN
CALSCALE:GREGORIAN
METHOD:PUBLISH
BEGIN:VEVENT
SUMMARY:Matt Lang
UID:E-20409-20251206T200000
DTSTART:20251206T200000
DTSTAMP:20250513T120545
URL:https://tgv.districtweb.dev/calendrier/matt-lang-decembre-2025/
END:VEVENT
END:VCALENDAR