BEGIN:VCALENDAR
VERSION:2.0
PRODID:-//Théâtre Gilles-Vigneault//Nanette//EN
CALSCALE:GREGORIAN
METHOD:PUBLISH
BEGIN:VEVENT
SUMMARY:Nanette
UID:E-24091-20251118T193000
DTSTART:20251118T193000
DTSTAMP:20250509T100742
URL:https://tgv.districtweb.dev/calendrier/nanette-novembre-2025/
END:VEVENT
END:VCALENDAR