BEGIN:VCALENDAR
VERSION:2.0
PRODID:-//Théâtre Gilles-Vigneault//Daniel Lemire//EN
CALSCALE:GREGORIAN
METHOD:PUBLISH
BEGIN:VEVENT
SUMMARY:Daniel Lemire
UID:E-22344-20251109T150000
DTSTART:20251109T150000
DTSTAMP:20250106T153148
LOCATION:Théâtre Gilles-Vigneault, 118, rue de la Gare, Saint-Jérôme, J7Z 0J1
GEO:45.776227;-74.001033
URL:https://tgv.districtweb.dev/calendrier/daniel-lemire-novembre-2025/
END:VEVENT
END:VCALENDAR