BEGIN:VCALENDAR
VERSION:2.0
PRODID:-//Théâtre Gilles-Vigneault//Jérémy Demay//EN
CALSCALE:GREGORIAN
METHOD:PUBLISH
BEGIN:VEVENT
SUMMARY:Jérémy Demay
UID:E-21679-20251108T200000
DTSTART:20251108T200000
DTSTAMP:20250506T074031
LOCATION:Théâtre Gilles-Vigneault, 118, rue de la Gare, Saint-Jérôme, J7Z 0J1
GEO:45.776227;-74.001033
URL:https://tgv.districtweb.dev/calendrier/jeremy-demay-novembre-2025/
END:VEVENT
END:VCALENDAR