BEGIN:VCALENDAR
VERSION:2.0
PRODID:-//Théâtre Gilles-Vigneault//Christian Marc Gendron//EN
CALSCALE:GREGORIAN
METHOD:PUBLISH
BEGIN:VEVENT
SUMMARY:Christian Marc Gendron
UID:E-19031-20251102T150000
DTSTART:20251102T150000
DTSTAMP:20250106T155652
URL:https://tgv.districtweb.dev/calendrier/christian-marc-gendron-novembre-2025/
END:VEVENT
END:VCALENDAR