BEGIN:VCALENDAR
VERSION:2.0
PRODID:-//Théâtre Gilles-Vigneault//Scolaire | 12 hommes en colère//EN
CALSCALE:GREGORIAN
METHOD:PUBLISH
BEGIN:VEVENT
SUMMARY:Scolaire | 12 hommes en colère
UID:E-24193-20251027T100000
DTSTART:20251027T100000
DTSTAMP:20250514T090321
URL:https://tgv.districtweb.dev/calendrier/scolaire-12-hommes-en-colere/
END:VEVENT
END:VCALENDAR