BEGIN:VCALENDAR
VERSION:2.0
PRODID:-//Théâtre Gilles-Vigneault//12 hommes en colère//EN
CALSCALE:GREGORIAN
METHOD:PUBLISH
BEGIN:VEVENT
SUMMARY:12 hommes en colère
UID:E-24010-20251026T150000
DTSTART:20251026T150000
DTSTAMP:20250401T163533
LOCATION:Théâtre Gilles-Vigneault, 118, rue de la Gare, Saint-Jérôme, J7Z 0J1
GEO:45.776227;-74.001033
URL:https://tgv.districtweb.dev/calendrier/12-hommes-en-colere-octobre-2025/
END:VEVENT
END:VCALENDAR