BEGIN:VCALENDAR
VERSION:2.0
PRODID:-//Théâtre Gilles-Vigneault//Simon Gouache commence quelque part//EN
CALSCALE:GREGORIAN
METHOD:PUBLISH
BEGIN:VEVENT
SUMMARY:Simon Gouache commence quelque part
UID:E-23999-20251017T200000
DTSTART:20251017T200000
DTSTAMP:20250407T122304
LOCATION:Théâtre Gilles-Vigneault, 118, rue de la Gare, Saint-Jérôme, J7Z 0J1
GEO:45.776227;-74.001033
URL:https://tgv.districtweb.dev/calendrier/simon-gouache-octobre-2025/
END:VEVENT
END:VCALENDAR