BEGIN:VCALENDAR
VERSION:2.0
PRODID:-//Théâtre Gilles-Vigneault//Phil Lauzon//EN
CALSCALE:GREGORIAN
METHOD:PUBLISH
BEGIN:VEVENT
SUMMARY:Phil Lauzon
UID:E-23997-20251002T200000
DTSTART:20251002T200000
DTSTAMP:20250401T085158
URL:https://tgv.districtweb.dev/calendrier/phil-lauzon-octobre-2025/
END:VEVENT
END:VCALENDAR