BEGIN:VCALENDAR
VERSION:2.0
PRODID:-//Théâtre Gilles-Vigneault//On s’lâche pas//EN
CALSCALE:GREGORIAN
METHOD:PUBLISH
BEGIN:VEVENT
SUMMARY:On s’lâche pas
UID:E-23350-20251001T193000
DTSTART:20251001T193000
DTSTAMP:20241030T084537
LOCATION:Théâtre Gilles-Vigneault, 118, rue de la Gare, Saint-Jérôme, J7Z 0J1
GEO:45.776227;-74.001033
URL:https://tgv.districtweb.dev/calendrier/on-slache-pas-octobre-2025/
END:VEVENT
END:VCALENDAR