BEGIN:VCALENDAR
VERSION:2.0
PRODID:-//Théâtre Gilles-Vigneault//Luce Dufault, Lulu Hughes, Kim Richardson//EN
CALSCALE:GREGORIAN
METHOD:PUBLISH
BEGIN:VEVENT
SUMMARY:Luce Dufault, Lulu Hughes, Kim Richardson
UID:E-23547-20250928T150000
DTSTART:20250928T150000
DTSTAMP:20250513T114851
URL:https://tgv.districtweb.dev/calendrier/elles-septembre-2025/
END:VEVENT
END:VCALENDAR