BEGIN:VCALENDAR
VERSION:2.0
PRODID:-//Théâtre Gilles-Vigneault//Shauit//EN
CALSCALE:GREGORIAN
METHOD:PUBLISH
BEGIN:VEVENT
SUMMARY:Shauit
UID:E-22873-20250926T200000
DTSTART:20250926T200000
DTSTAMP:20250526T074756
URL:https://tgv.districtweb.dev/calendrier/shauit-septembre-2025/
END:VEVENT
END:VCALENDAR