BEGIN:VCALENDAR
VERSION:2.0
PRODID:-//Théâtre Gilles-Vigneault//Roxane Bruneau//EN
CALSCALE:GREGORIAN
METHOD:PUBLISH
BEGIN:VEVENT
SUMMARY:Roxane Bruneau
UID:E-22348-20250922T193000
DTSTART:20250922T193000
DTSTAMP:20250513T114729
URL:https://tgv.districtweb.dev/calendrier/roxane-bruneau-avril-2025/
END:VEVENT
END:VCALENDAR