BEGIN:VCALENDAR
VERSION:2.0
PRODID:-//Théâtre Gilles-Vigneault//Claude Dubois//EN
CALSCALE:GREGORIAN
METHOD:PUBLISH
BEGIN:VEVENT
SUMMARY:Claude Dubois
UID:E-19931-20250824T150000
DTSTART:20250824T150000
DTSTAMP:20250505T072705
URL:https://tgv.districtweb.dev/calendrier/claude-dubois-aout-2025/
END:VEVENT
END:VCALENDAR