BEGIN:VCALENDAR
VERSION:2.0
PRODID:-//Théâtre Gilles-Vigneault//Le Gong Show//EN
CALSCALE:GREGORIAN
METHOD:PUBLISH
BEGIN:VEVENT
SUMMARY:Le Gong Show
UID:E-23705-20250823T200000
DTSTART:20250823T200000
DTSTAMP:20250505T072724
URL:https://tgv.districtweb.dev/calendrier/gong-show-aout-2025/
END:VEVENT
END:VCALENDAR