BEGIN:VCALENDAR
VERSION:2.0
PRODID:-//Théâtre Gilles-Vigneault//Katherine Levac//EN
CALSCALE:GREGORIAN
METHOD:PUBLISH
BEGIN:VEVENT
SUMMARY:Katherine Levac
UID:E-21084-20250822T200000
DTSTART:20250822T200000
DTSTAMP:20250505T072754
LOCATION:Théâtre Gilles-Vigneault, 118, rue de la Gare, Saint-Jérôme, J7Z 0J1
GEO:45.776227;-74.001033
URL:https://tgv.districtweb.dev/calendrier/katherine-levac-aout-2025/
END:VEVENT
END:VCALENDAR