BEGIN:VCALENDAR
VERSION:2.0
PRODID:-//Théâtre Gilles-Vigneault//Marthe Laverdière//EN
CALSCALE:GREGORIAN
METHOD:PUBLISH
BEGIN:VEVENT
SUMMARY:Marthe Laverdière
UID:E-20068-20250814T200000
DTSTART:20250814T200000
DTSTAMP:20250507T151816
LOCATION:Théâtre Gilles-Vigneault, 118, rue de la Gare, Saint-Jérôme, J7Z 0J1
GEO:45.776227;-74.001033
URL:https://tgv.districtweb.dev/calendrier/marthe-laverdiere-aout-2025/
END:VEVENT
END:VCALENDAR