BEGIN:VCALENDAR
VERSION:2.0
PRODID:-//Théâtre Gilles-Vigneault//Avec le temps... Dalida//EN
CALSCALE:GREGORIAN
METHOD:PUBLISH
BEGIN:VEVENT
SUMMARY:Avec le temps... Dalida
UID:E-23708-20250809T200000
DTSTART:20250809T200000
DTSTAMP:20250505T072838
URL:https://tgv.districtweb.dev/calendrier/avec-le-temps-dalida-aout-2025/
END:VEVENT
END:VCALENDAR