BEGIN:VCALENDAR
VERSION:2.0
PRODID:-//Théâtre Gilles-Vigneault//Peut contenir des traces d’égo//EN
CALSCALE:GREGORIAN
METHOD:PUBLISH
BEGIN:VEVENT
SUMMARY:Peut contenir des traces d’égo
UID:E-23203-20250718T200000
DTSTART:20250718T200000
DTSTAMP:20250604T135701
URL:https://tgv.districtweb.dev/calendrier/peut-contenir-des-traces-dego-ete-2025/
END:VEVENT
END:VCALENDAR