BEGIN:VCALENDAR
VERSION:2.0
PRODID:-//Théâtre Gilles-Vigneault//Mario Pelchat et ses invitées//EN
CALSCALE:GREGORIAN
METHOD:PUBLISH
BEGIN:VEVENT
SUMMARY:Mario Pelchat et ses invitées
UID:E-20732-20250712T190000
DTSTART:20250712T190000
DTSTAMP:20250505T073059
LOCATION:Théâtre Gilles-Vigneault, 118, rue de la Gare, Saint-Jérôme, J7Z 0J1
GEO:45.776227;-74.001033
URL:https://tgv.districtweb.dev/calendrier/elles-chantent-pelchat-juillet-2025/
END:VEVENT
END:VCALENDAR