BEGIN:VCALENDAR
VERSION:2.0
PRODID:-//Théâtre Gilles-Vigneault//Christian Marc Gendron//EN
CALSCALE:GREGORIAN
METHOD:PUBLISH
BEGIN:VEVENT
SUMMARY:Christian Marc Gendron
UID:E-22081-20250711T190000
DTSTART:20250711T190000
DTSTAMP:20250505T072609
URL:https://tgv.districtweb.dev/calendrier/christian-marc-gendron-juillet-2025/
END:VEVENT
END:VCALENDAR