BEGIN:VCALENDAR
VERSION:2.0
PRODID:-//Théâtre Gilles-Vigneault//Simon Leblanc//EN
CALSCALE:GREGORIAN
METHOD:PUBLISH
BEGIN:VEVENT
SUMMARY:Simon Leblanc
UID:E-23985-20250618T193000
DTSTART:20250618T193000
DTSTAMP:20250618T075729
URL:https://tgv.districtweb.dev/calendrier/simon-leblanc-juin-2025/
END:VEVENT
END:VCALENDAR