BEGIN:VCALENDAR
VERSION:2.0
PRODID:-//Théâtre Gilles-Vigneault//Gala Comédie Star//EN
CALSCALE:GREGORIAN
METHOD:PUBLISH
BEGIN:VEVENT
SUMMARY:Gala Comédie Star
UID:E-22807-20250613T200000
DTSTART:20250613T200000
DTSTAMP:20250505T091036
LOCATION:Théâtre Gilles-Vigneault, 118, rue de la Gare, Saint-Jérôme, J7Z 0J1
GEO:45.776227;-74.001033
URL:https://tgv.districtweb.dev/calendrier/gala-comedie-star-juin-2025/
END:VEVENT
END:VCALENDAR