BEGIN:VCALENDAR
VERSION:2.0
PRODID:-//Théâtre Gilles-Vigneault//Salebarbes//EN
CALSCALE:GREGORIAN
METHOD:PUBLISH
BEGIN:VEVENT
SUMMARY:Salebarbes
UID:E-18351-20250522T200000
DTSTART:20250522T200000
DTSTAMP:20240529T115239
URL:https://tgv.districtweb.dev/calendrier/salebarbes-mai-2025/
END:VEVENT
END:VCALENDAR