BEGIN:VCALENDAR
VERSION:2.0
PRODID:-//Théâtre Gilles-Vigneault//Dave Fenley//EN
CALSCALE:GREGORIAN
METHOD:PUBLISH
BEGIN:VEVENT
SUMMARY:Dave Fenley
UID:E-21694-20250515T200000
DTSTART:20250515T200000
DTSTAMP:20250423T095346
URL:https://tgv.districtweb.dev/calendrier/dave-fenley-mai-2025/
END:VEVENT
END:VCALENDAR